BEGIN:VCALENDAR
VERSION:2.0
PRODID:-//SG ALB - ECPv5.16.1.1//NONSGML v1.0//EN
CALSCALE:GREGORIAN
METHOD:PUBLISH
X-WR-CALNAME:SG ALB
X-ORIGINAL-URL:https://sg-alb.de
X-WR-CALDESC:Events for SG ALB
REFRESH-INTERVAL;VALUE=DURATION:PT1H
X-Robots-Tag:noindex
X-PUBLISHED-TTL:PT1H
BEGIN:VTIMEZONE
TZID:Europe/Berlin
BEGIN:DAYLIGHT
TZOFFSETFROM:+0100
TZOFFSETTO:+0200
TZNAME:CEST
DTSTART:20220327T010000
END:DAYLIGHT
BEGIN:STANDARD
TZOFFSETFROM:+0200
TZOFFSETTO:+0100
TZNAME:CET
DTSTART:20221030T010000
END:STANDARD
END:VTIMEZONE
BEGIN:VEVENT
DTSTART;TZID=Europe/Berlin:20220716T150000
DTEND;TZID=Europe/Berlin:20220716T193000
DTSTAMP:20260425T050433
CREATED:20220629T191225Z
LAST-MODIFIED:20220630T142117Z
UID:2693-1657983600-1657999800@sg-alb.de
SUMMARY:SG Alb - TSV Berghülen
DESCRIPTION:Blautopf Pokal 2022 in Gerhausen.\nAnspiel 15:00 Uhr \nWeitere Informationen zum TSV Berghülen unter:\nhttps://www.tsvberghuelen.de/fussball/
URL:https://sg-alb.de/event/training-suppingen/
CATEGORIES:Freundschaftsspiel
ATTACH;FMTTYPE=image/jpeg:https://sg-alb.de/wp-content/uploads/2022/06/IMG-20220622-WA0007.jpg
END:VEVENT
BEGIN:VEVENT
DTSTART;TZID=Europe/Berlin:20220716T180000
DTEND;TZID=Europe/Berlin:20220716T193000
DTSTAMP:20260425T050433
CREATED:20220630T135138Z
LAST-MODIFIED:20220711T172203Z
UID:2719-1657994400-1657999800@sg-alb.de
SUMMARY:SG Alb - SV Pappelau/Beiningen
DESCRIPTION:Blautopf Pokal 2022 in Gerhausen\nAnspiel 18:00 Uhr\n\nWeitere Informationen zum SV Pappelau/Beiningen:\nhttps://www.svpappelau-beiningen.de/index.php/news-fussballabteilung
URL:https://sg-alb.de/event/sg-alb-sv-pappelau-beiningen/
CATEGORIES:Freundschaftsspiel
ATTACH;FMTTYPE=image/jpeg:https://sg-alb.de/wp-content/uploads/2022/06/anastasiia-chepinska-WLfG-Q_tv2A-unsplash.jpg
END:VEVENT
END:VCALENDAR