BEGIN:VCALENDAR
VERSION:2.0
PRODID:-//SG ALB - ECPv5.16.1.1//NONSGML v1.0//EN
CALSCALE:GREGORIAN
METHOD:PUBLISH
X-ORIGINAL-URL:https://sg-alb.de
X-WR-CALDESC:Events for SG ALB
REFRESH-INTERVAL;VALUE=DURATION:PT1H
X-Robots-Tag:noindex
X-PUBLISHED-TTL:PT1H
BEGIN:VTIMEZONE
TZID:Europe/Berlin
BEGIN:DAYLIGHT
TZOFFSETFROM:+0100
TZOFFSETTO:+0200
TZNAME:CEST
DTSTART:20220327T010000
END:DAYLIGHT
BEGIN:STANDARD
TZOFFSETFROM:+0200
TZOFFSETTO:+0100
TZNAME:CET
DTSTART:20221030T010000
END:STANDARD
END:VTIMEZONE
BEGIN:VEVENT
DTSTART;TZID=Europe/Berlin:20220807T180000
DTEND;TZID=Europe/Berlin:20220807T200000
DTSTAMP:20260425T032519
CREATED:20220728T161349Z
LAST-MODIFIED:20220728T161612Z
UID:2969-1659895200-1659902400@sg-alb.de
SUMMARY:Bezirkspokal 1. Runde: SF Dornstadt - SG Alb
DESCRIPTION:
URL:https://sg-alb.de/event/bezirkspokal-1-runde-sf-dornstadt-sg-alb/
LOCATION:Sportplatz Bollingen\, Weidacher Str. 3\, Dornstadt\, 89160\, Deutschland
CATEGORIES:Spiel
END:VEVENT
END:VCALENDAR