BEGIN:VCALENDAR
VERSION:2.0
PRODID:-//SG ALB - ECPv5.16.1.1//NONSGML v1.0//EN
CALSCALE:GREGORIAN
METHOD:PUBLISH
X-WR-CALNAME:SG ALB
X-ORIGINAL-URL:https://sg-alb.de
X-WR-CALDESC:Events for SG ALB
REFRESH-INTERVAL;VALUE=DURATION:PT1H
X-Robots-Tag:noindex
X-PUBLISHED-TTL:PT1H
BEGIN:VTIMEZONE
TZID:Europe/Berlin
BEGIN:DAYLIGHT
TZOFFSETFROM:+0100
TZOFFSETTO:+0200
TZNAME:CEST
DTSTART:20230326T010000
END:DAYLIGHT
BEGIN:STANDARD
TZOFFSETFROM:+0200
TZOFFSETTO:+0100
TZNAME:CET
DTSTART:20231029T010000
END:STANDARD
END:VTIMEZONE
BEGIN:VEVENT
DTSTART;TZID=Europe/Berlin:20230410T150000
DTEND;TZID=Europe/Berlin:20230410T170000
DTSTAMP:20260424T155932
CREATED:20230301T191048Z
LAST-MODIFIED:20230301T191049Z
UID:3556-1681138800-1681146000@sg-alb.de
SUMMARY:22. Spieltag: SV Westerheim - SG Alb
DESCRIPTION:Anspiel 1. Mannschaft: 15:00
URL:https://sg-alb.de/event/22-spieltag-sv-westerheim-sg-alb/
LOCATION:Sportplatz Westerheim\, Beim Sportheim\, Westerheim\, 72589\, Deutschland
CATEGORIES:Spiel
END:VEVENT
END:VCALENDAR