BEGIN:VCALENDAR
VERSION:2.0
PRODID:-//SG ALB - ECPv5.16.1.1//NONSGML v1.0//EN
CALSCALE:GREGORIAN
METHOD:PUBLISH
X-ORIGINAL-URL:https://sg-alb.de
X-WR-CALDESC:Events for SG ALB
REFRESH-INTERVAL;VALUE=DURATION:PT1H
X-Robots-Tag:noindex
X-PUBLISHED-TTL:PT1H
BEGIN:VTIMEZONE
TZID:Europe/Berlin
BEGIN:DAYLIGHT
TZOFFSETFROM:+0100
TZOFFSETTO:+0200
TZNAME:CEST
DTSTART:20230326T010000
END:DAYLIGHT
BEGIN:STANDARD
TZOFFSETFROM:+0200
TZOFFSETTO:+0100
TZNAME:CET
DTSTART:20231029T010000
END:STANDARD
END:VTIMEZONE
BEGIN:VEVENT
DTSTART;TZID=Europe/Berlin:20230423T130000
DTEND;TZID=Europe/Berlin:20230423T190000
DTSTAMP:20260424T161207
CREATED:20230301T191427Z
LAST-MODIFIED:20230301T191428Z
UID:3562-1682254800-1682276400@sg-alb.de
SUMMARY:24. Spieltag: TSV Herrlingen - SG Alb
DESCRIPTION:Anspiel 1. Mannschaft: 15:00 \n\n\n\nAnspiel 2. Mannschaft: 13:00
URL:https://sg-alb.de/event/24-spieltag-tsv-herrlingen-sg-alb/
LOCATION:Sportplatz Herrlingen\, Am Schneckenberg 3\, Blaustein\, 89134\, Deutschland
CATEGORIES:Spiel
END:VEVENT
END:VCALENDAR