BEGIN:VCALENDAR
VERSION:2.0
PRODID:-//SG ALB - ECPv5.16.1.1//NONSGML v1.0//EN
CALSCALE:GREGORIAN
METHOD:PUBLISH
X-ORIGINAL-URL:https://sg-alb.de
X-WR-CALDESC:Events for SG ALB
REFRESH-INTERVAL;VALUE=DURATION:PT1H
X-Robots-Tag:noindex
X-PUBLISHED-TTL:PT1H
BEGIN:VTIMEZONE
TZID:Europe/Berlin
BEGIN:DAYLIGHT
TZOFFSETFROM:+0100
TZOFFSETTO:+0200
TZNAME:CEST
DTSTART:20230326T010000
END:DAYLIGHT
BEGIN:STANDARD
TZOFFSETFROM:+0200
TZOFFSETTO:+0100
TZNAME:CET
DTSTART:20231029T010000
END:STANDARD
END:VTIMEZONE
BEGIN:VEVENT
DTSTART;TZID=Europe/Berlin:20230704T190000
DTEND;TZID=Europe/Berlin:20230704T210000
DTSTAMP:20260422T163333
CREATED:20230704T180759Z
LAST-MODIFIED:20230704T180759Z
UID:3994-1688497200-1688504400@sg-alb.de
SUMMARY:Trainingsbeginn Saison 23/24
DESCRIPTION:
URL:https://sg-alb.de/event/trainingsbeginn-saison-23-24/
CATEGORIES:Training
END:VEVENT
END:VCALENDAR