BEGIN:VCALENDAR
VERSION:2.0
PRODID:-//SG ALB - ECPv5.16.1.1//NONSGML v1.0//EN
CALSCALE:GREGORIAN
METHOD:PUBLISH
X-ORIGINAL-URL:https://sg-alb.de
X-WR-CALDESC:Events for SG ALB
REFRESH-INTERVAL;VALUE=DURATION:PT1H
X-Robots-Tag:noindex
X-PUBLISHED-TTL:PT1H
BEGIN:VTIMEZONE
TZID:Europe/Berlin
BEGIN:DAYLIGHT
TZOFFSETFROM:+0100
TZOFFSETTO:+0200
TZNAME:CEST
DTSTART:20220327T010000
END:DAYLIGHT
BEGIN:STANDARD
TZOFFSETFROM:+0200
TZOFFSETTO:+0100
TZNAME:CET
DTSTART:20221030T010000
END:STANDARD
END:VTIMEZONE
BEGIN:VEVENT
DTSTART;TZID=Europe/Berlin:20220902T180000
DTEND;TZID=Europe/Berlin:20220902T200000
DTSTAMP:20260425T003824
CREATED:20220831T082924Z
LAST-MODIFIED:20220831T083000Z
UID:3279-1662141600-1662148800@sg-alb.de
SUMMARY:4. Spieltag 2. Mannschaft: SG Alb - SF Dornstadt
DESCRIPTION:4. Spieltag der 2. Mannschaft
URL:https://sg-alb.de/event/sg-alb-sf-dornstadt/
LOCATION:Sportplatz Seissen\, Reservoirstraße\, Seissen\, 89143
CATEGORIES:Spiel
END:VEVENT
BEGIN:VEVENT
DTSTART;TZID=Europe/Berlin:20220911T130000
DTEND;TZID=Europe/Berlin:20220911T180000
DTSTAMP:20260425T003824
CREATED:20220811T130023Z
LAST-MODIFIED:20220811T130025Z
UID:3087-1662901200-1662919200@sg-alb.de
SUMMARY:3. Spieltag: TSV Bernstadt - SG Alb
DESCRIPTION:3. Spieltag Kreisliga A \n\n\n\nAnspiel Reservemannschaft: 13:00 Uhr \n\n\n\nAnspiel 1. Mannschaft: 15:00 Uhr
URL:https://sg-alb.de/event/3-spieltag-tsv-bernstadt-sg-alb/
LOCATION:Sportplatz Bernstadt\, Riedwiesen 1\, Bernstadt\, 89182\, Deutschland
CATEGORIES:Spiel
END:VEVENT
BEGIN:VEVENT
DTSTART;TZID=Europe/Berlin:20220916T174500
DTEND;TZID=Europe/Berlin:20220916T200000
DTSTAMP:20260425T003824
CREATED:20220811T125120Z
LAST-MODIFIED:20220811T125225Z
UID:3078-1663350300-1663358400@sg-alb.de
SUMMARY:4. Spieltag: SG Alb - SPFR Dornstadt
DESCRIPTION:Kreisliga A Spieltag 4 \n\n\n\nAnspiel 1 Mannschaft: 17:45
URL:https://sg-alb.de/event/sg-alb-spfr-dornstadt/
LOCATION:Sportplatz Seissen\, Reservoirstraße\, Seissen\, 89143
CATEGORIES:Spiel
END:VEVENT
BEGIN:VEVENT
DTSTART;TZID=Europe/Berlin:20220925T130000
DTEND;TZID=Europe/Berlin:20220925T190000
DTSTAMP:20260425T003824
CREATED:20220916T180112Z
LAST-MODIFIED:20220916T180113Z
UID:3300-1664110800-1664132400@sg-alb.de
SUMMARY:5. Spieltag: TSV Altheim - SG Alb
DESCRIPTION:Anspiel 2. Mannschaft: 13:00 \n\n\n\nAnspiel 2. Mannschaft: 15:00
URL:https://sg-alb.de/event/5-spieltag-tsv-altheim-sg-alb/
LOCATION:Sportplatz Altheim/Alb\, An der Markt\, Altheim\, 89174\, Deutschland
CATEGORIES:Spiel
END:VEVENT
END:VCALENDAR