BEGIN:VCALENDAR
VERSION:2.0
PRODID:-//SG ALB - ECPv5.16.1.1//NONSGML v1.0//EN
CALSCALE:GREGORIAN
METHOD:PUBLISH
X-WR-CALNAME:SG ALB
X-ORIGINAL-URL:https://sg-alb.de
X-WR-CALDESC:Events for SG ALB
REFRESH-INTERVAL;VALUE=DURATION:PT1H
X-Robots-Tag:noindex
X-PUBLISHED-TTL:PT1H
BEGIN:VTIMEZONE
TZID:Europe/Berlin
BEGIN:DAYLIGHT
TZOFFSETFROM:+0100
TZOFFSETTO:+0200
TZNAME:CEST
DTSTART:20220327T010000
END:DAYLIGHT
BEGIN:STANDARD
TZOFFSETFROM:+0200
TZOFFSETTO:+0100
TZNAME:CET
DTSTART:20221030T010000
END:STANDARD
END:VTIMEZONE
BEGIN:VEVENT
DTSTART;TZID=Europe/Berlin:20221002T130000
DTEND;TZID=Europe/Berlin:20221002T190000
DTSTAMP:20260424T232001
CREATED:20220916T180316Z
LAST-MODIFIED:20220916T180318Z
UID:3304-1664715600-1664737200@sg-alb.de
SUMMARY:6. Spieltag: SG Alb - SV Westerheim
DESCRIPTION:Anspiel 2. Mannschaft: 13:00 \n\n\n\nAnspiel 1. Mannschaft: 15:00
URL:https://sg-alb.de/event/6-spieltag-sg-alb-sv-westerheim/
LOCATION:Sportplatz Suppingen\, Kornbergweg 12\, Laichingen\, 89150\, Deutschland
CATEGORIES:Spiel
END:VEVENT
BEGIN:VEVENT
DTSTART;TZID=Europe/Berlin:20221009T130000
DTEND;TZID=Europe/Berlin:20221009T190000
DTSTAMP:20260424T232001
CREATED:20220916T180613Z
LAST-MODIFIED:20220916T180615Z
UID:3306-1665320400-1665342000@sg-alb.de
SUMMARY:7. Spieltag: SV Lonsee - SG Alb
DESCRIPTION:Anspiel 2. Mannschaft: 13:00  \n\n\n\nAnspiel 1. Mannschaft: 15:00
URL:https://sg-alb.de/event/7-spieltag-sv-lonsee-sg-alb/
LOCATION:Sportplatz Lonsee\, Salachberg\, Lonsee\, 89173\, Deutschland
CATEGORIES:Spiel
END:VEVENT
BEGIN:VEVENT
DTSTART;TZID=Europe/Berlin:20221016T130000
DTEND;TZID=Europe/Berlin:20221016T190000
DTSTAMP:20260424T232001
CREATED:20220916T180901Z
LAST-MODIFIED:20220916T180903Z
UID:3310-1665925200-1665946800@sg-alb.de
SUMMARY:8. Spieltag: SG Alb - TSV Herrlingen
DESCRIPTION:Anspiel 2. Mannschaft: 13:00 \n\n\n\nAnspiel 1: Mannschaft: 15:00
URL:https://sg-alb.de/event/8-spieltag-sg-alb-tsv-herrlingen/
LOCATION:Sportplatz Seissen\, Reservoirstraße\, Seissen\, 89143
CATEGORIES:Spiel
END:VEVENT
BEGIN:VEVENT
DTSTART;TZID=Europe/Berlin:20221023T130000
DTEND;TZID=Europe/Berlin:20221023T190000
DTSTAMP:20260424T232001
CREATED:20220916T181152Z
LAST-MODIFIED:20220916T181153Z
UID:3312-1666530000-1666551600@sg-alb.de
SUMMARY:9. Spieltag: SGM Hörvelsingen/Langenau - SG Alb
DESCRIPTION:Anspiel 2. Mannschaft: 13:00 \n\n\n\nAnspiel 1. Mannschaft: 15:00
URL:https://sg-alb.de/event/9-spieltag-sgm-hoervelsingen-langenau-sg-alb/
LOCATION:Sportplatz Langenau\, Schlehenstraße 9\, Langenau\, 89129\, Deutschland
CATEGORIES:Spiel
END:VEVENT
BEGIN:VEVENT
DTSTART;TZID=Europe/Berlin:20221030T130000
DTEND;TZID=Europe/Berlin:20221030T190000
DTSTAMP:20260424T232001
CREATED:20221019T181405Z
LAST-MODIFIED:20221019T181406Z
UID:3360-1667134800-1667156400@sg-alb.de
SUMMARY:10. Spieltag: SG Alb - SV Amstetten
DESCRIPTION:Anspiel 1. Mannschaft: 15:00 Uhr \n\n\n\nAnspiel 2. Mannschaft: 13:00 Uhr
URL:https://sg-alb.de/event/10-spieltag-sg-alb-sv-amstetten/
LOCATION:Sportplatz Suppingen\, Kornbergweg 12\, Laichingen\, 89150\, Deutschland
CATEGORIES:Spiel
END:VEVENT
END:VCALENDAR