BEGIN:VCALENDAR
VERSION:2.0
PRODID:-//SG ALB - ECPv5.16.1.1//NONSGML v1.0//EN
CALSCALE:GREGORIAN
METHOD:PUBLISH
X-WR-CALNAME:SG ALB
X-ORIGINAL-URL:https://sg-alb.de
X-WR-CALDESC:Events for SG ALB
REFRESH-INTERVAL;VALUE=DURATION:PT1H
X-Robots-Tag:noindex
X-PUBLISHED-TTL:PT1H
BEGIN:VTIMEZONE
TZID:Europe/Berlin
BEGIN:DAYLIGHT
TZOFFSETFROM:+0100
TZOFFSETTO:+0200
TZNAME:CEST
DTSTART:20230326T010000
END:DAYLIGHT
BEGIN:STANDARD
TZOFFSETFROM:+0200
TZOFFSETTO:+0100
TZNAME:CET
DTSTART:20231029T010000
END:STANDARD
END:VTIMEZONE
BEGIN:VEVENT
DTSTART;TZID=Europe/Berlin:20230125T190000
DTEND;TZID=Europe/Berlin:20230125T210000
DTSTAMP:20260424T190642
CREATED:20230114T183022Z
LAST-MODIFIED:20230114T183023Z
UID:3492-1674673200-1674680400@sg-alb.de
SUMMARY:Trainingsauftakt zur Rückrunde
DESCRIPTION:
URL:https://sg-alb.de/event/trainingsauftakt-zur-rueckrunde/
CATEGORIES:Training
END:VEVENT
BEGIN:VEVENT
DTSTART;TZID=Europe/Berlin:20230129T130000
DTEND;TZID=Europe/Berlin:20230129T170000
DTSTAMP:20260424T190642
CREATED:20230114T183320Z
LAST-MODIFIED:20230114T183356Z
UID:3497-1674997200-1675011600@sg-alb.de
SUMMARY:Vorbereitungsspiel: SG Alb - SV Unterstadion (Kreisliga A)
DESCRIPTION:Anspiel in Ehingen – Kunstrasenplatz
URL:https://sg-alb.de/event/vorbereitungsspiel-sg-alb-sv-unterstadion-kreisliga-a/
CATEGORIES:Freundschaftsspiel
END:VEVENT
END:VCALENDAR