BEGIN:VCALENDAR
VERSION:2.0
PRODID:-//SG ALB - ECPv5.16.1.1//NONSGML v1.0//EN
CALSCALE:GREGORIAN
METHOD:PUBLISH
X-WR-CALNAME:SG ALB
X-ORIGINAL-URL:https://sg-alb.de
X-WR-CALDESC:Events for SG ALB
REFRESH-INTERVAL;VALUE=DURATION:PT1H
X-Robots-Tag:noindex
X-PUBLISHED-TTL:PT1H
BEGIN:VTIMEZONE
TZID:Europe/Berlin
BEGIN:DAYLIGHT
TZOFFSETFROM:+0100
TZOFFSETTO:+0200
TZNAME:CEST
DTSTART:20230326T010000
END:DAYLIGHT
BEGIN:STANDARD
TZOFFSETFROM:+0200
TZOFFSETTO:+0100
TZNAME:CET
DTSTART:20231029T010000
END:STANDARD
END:VTIMEZONE
BEGIN:VEVENT
DTSTART;TZID=Europe/Berlin:20230305T130000
DTEND;TZID=Europe/Berlin:20230305T180000
DTSTAMP:20260424T161152
CREATED:20230114T185016Z
LAST-MODIFIED:20230301T192851Z
UID:3509-1678021200-1678039200@sg-alb.de
SUMMARY:16. Spieltag: TSV Westerstetten - SG Alb
DESCRIPTION:Anspiel 2. Mannschaft: 13:00 \n\n\n\nAnspiel 1. Mannschaft: 15:00
URL:https://sg-alb.de/event/14-spieltag-tsv-westerstetten-sg-alb/
LOCATION:Sportplatz Westerstetten\, Stockhäule\, Westerstetten\, 89198\, Deutschland
CATEGORIES:Spiel
END:VEVENT
BEGIN:VEVENT
DTSTART;TZID=Europe/Berlin:20230312T130000
DTEND;TZID=Europe/Berlin:20230312T190000
DTSTAMP:20260424T161152
CREATED:20230301T182559Z
LAST-MODIFIED:20230301T182726Z
UID:3532-1678626000-1678647600@sg-alb.de
SUMMARY:17. Spieltag: SG Alb - TSV Albeck
DESCRIPTION:Anspiel 1. Mannschaft: 15:00 \n\n\n\nAnspiel 2. Mannschaft: 13:00
URL:https://sg-alb.de/event/17-spieltag-sg-alb-tsv-albeck/
LOCATION:Sportplatz Suppingen\, Kornbergweg 12\, Laichingen\, 89150\, Deutschland
CATEGORIES:Spiel
END:VEVENT
BEGIN:VEVENT
DTSTART;TZID=Europe/Berlin:20230319T080000
DTEND;TZID=Europe/Berlin:20230319T170000
DTSTAMP:20260424T161152
CREATED:20230301T183021Z
LAST-MODIFIED:20230301T183022Z
UID:3538-1679212800-1679245200@sg-alb.de
SUMMARY:18. Spieltag: Spielfrei
DESCRIPTION:
URL:https://sg-alb.de/event/18-spieltag-spielfrei/
CATEGORIES:Spiel
END:VEVENT
BEGIN:VEVENT
DTSTART;TZID=Europe/Berlin:20230326T130000
DTEND;TZID=Europe/Berlin:20230326T190000
DTSTAMP:20260424T161152
CREATED:20230301T182905Z
LAST-MODIFIED:20230301T182941Z
UID:3535-1679835600-1679857200@sg-alb.de
SUMMARY:19. Spieltag: SG Alb - TSV Bernstadt
DESCRIPTION:Anspiel 1. Mannschaft: 15:00 \n\n\n\nAnspiel 2. Mannschaft: 13:00
URL:https://sg-alb.de/event/20-spieltag-sg-alb-tsv-bernstadt/
LOCATION:Sportplatz Seissen\, Reservoirstraße\, Seissen\, 89143
CATEGORIES:Spiel
END:VEVENT
END:VCALENDAR