BEGIN:VCALENDAR
VERSION:2.0
PRODID:-//SG ALB - ECPv5.16.1.1//NONSGML v1.0//EN
CALSCALE:GREGORIAN
METHOD:PUBLISH
X-ORIGINAL-URL:https://sg-alb.de
X-WR-CALDESC:Events for SG ALB
REFRESH-INTERVAL;VALUE=DURATION:PT1H
X-Robots-Tag:noindex
X-PUBLISHED-TTL:PT1H
BEGIN:VTIMEZONE
TZID:Europe/Berlin
BEGIN:DAYLIGHT
TZOFFSETFROM:+0100
TZOFFSETTO:+0200
TZNAME:CEST
DTSTART:20230326T010000
END:DAYLIGHT
BEGIN:STANDARD
TZOFFSETFROM:+0200
TZOFFSETTO:+0100
TZNAME:CET
DTSTART:20231029T010000
END:STANDARD
END:VTIMEZONE
BEGIN:VEVENT
DTSTART;TZID=Europe/Berlin:20230507T130000
DTEND;TZID=Europe/Berlin:20230507T190000
DTSTAMP:20260424T131013
CREATED:20230301T191832Z
LAST-MODIFIED:20230301T191833Z
UID:3568-1683464400-1683486000@sg-alb.de
SUMMARY:26. Spieltag: SV Amstetten - SG Alb
DESCRIPTION:Anspiel 1. Mannschaft: 15:00 \n\n\n\nAnspiel 2. Mannschaft: 13:00
URL:https://sg-alb.de/event/26-spieltag-sv-amstetten-sg-alb/
LOCATION:Sportplatz Amstetten\, Auf dem Aurein 4\, Amstetten\, 73340\, Deutschland
CATEGORIES:Spiel
END:VEVENT
BEGIN:VEVENT
DTSTART;TZID=Europe/Berlin:20230514T130000
DTEND;TZID=Europe/Berlin:20230514T190000
DTSTAMP:20260424T131013
CREATED:20230301T192048Z
LAST-MODIFIED:20230301T192049Z
UID:3572-1684069200-1684090800@sg-alb.de
SUMMARY:27. Spieltag: SG Alb - SV Asselfingen
DESCRIPTION:Anspiel 1. Mannschaft: 15:00 \n\n\n\nAnspiel 2. Mannschaft: 13:00
URL:https://sg-alb.de/event/27-spieltag-sg-alb-sv-asselfingen/
LOCATION:Sportplatz Seissen\, Reservoirstraße\, Seissen\, 89143
CATEGORIES:Spiel
END:VEVENT
BEGIN:VEVENT
DTSTART;TZID=Europe/Berlin:20230521T130000
DTEND;TZID=Europe/Berlin:20230521T190000
DTSTAMP:20260424T131013
CREATED:20230301T192229Z
LAST-MODIFIED:20230301T192230Z
UID:3574-1684674000-1684695600@sg-alb.de
SUMMARY:28. Spieltag: SG Alb - SC Heroldstatt
DESCRIPTION:Anspiel 1. Mannschaft: 15:00 \n\n\n\nAnspiel 2. Mannschaft: 13:00
URL:https://sg-alb.de/event/28-spieltag-sg-alb-sc-heroldstatt/
LOCATION:Sportplatz Suppingen\, Kornbergweg 12\, Laichingen\, 89150\, Deutschland
CATEGORIES:Spiel
END:VEVENT
END:VCALENDAR